BEGIN:VCALENDAR
VERSION:2.0
PRODID:-//Simpson United Methodist Church - ECPv6.15.20//NONSGML v1.0//EN
CALSCALE:GREGORIAN
METHOD:PUBLISH
X-WR-CALNAME:Simpson United Methodist Church
X-ORIGINAL-URL:https://simpsonunitedmethodist.org
X-WR-CALDESC:Events for Simpson United Methodist Church
REFRESH-INTERVAL;VALUE=DURATION:PT1H
X-Robots-Tag:noindex
X-PUBLISHED-TTL:PT1H
BEGIN:VTIMEZONE
TZID:America/Chicago
BEGIN:DAYLIGHT
TZOFFSETFROM:-0600
TZOFFSETTO:-0500
TZNAME:CDT
DTSTART:20240310T080000
END:DAYLIGHT
BEGIN:STANDARD
TZOFFSETFROM:-0500
TZOFFSETTO:-0600
TZNAME:CST
DTSTART:20241103T070000
END:STANDARD
BEGIN:DAYLIGHT
TZOFFSETFROM:-0600
TZOFFSETTO:-0500
TZNAME:CDT
DTSTART:20250309T080000
END:DAYLIGHT
BEGIN:STANDARD
TZOFFSETFROM:-0500
TZOFFSETTO:-0600
TZNAME:CST
DTSTART:20251102T070000
END:STANDARD
BEGIN:DAYLIGHT
TZOFFSETFROM:-0600
TZOFFSETTO:-0500
TZNAME:CDT
DTSTART:20260308T080000
END:DAYLIGHT
BEGIN:STANDARD
TZOFFSETFROM:-0500
TZOFFSETTO:-0600
TZNAME:CST
DTSTART:20261101T070000
END:STANDARD
END:VTIMEZONE
BEGIN:VEVENT
DTSTART;TZID=America/Chicago:20250413T110000
DTEND;TZID=America/Chicago:20250413T123000
DTSTAMP:20260424T053937
CREATED:20250409T150414Z
LAST-MODIFIED:20250409T150414Z
UID:427-1744542000-1744547400@simpsonunitedmethodist.org
SUMMARY:Palm Sunday
DESCRIPTION:Join us in person as we celebrate Palm Sunday!!
URL:https://simpsonunitedmethodist.org/event/palm-sunday/
LOCATION:Simpson United Methodist Church\, 1701 E 12th 5\, Austin\, Texas\, 78702\, United States
END:VEVENT
END:VCALENDAR