BEGIN:VCALENDAR
VERSION:2.0
PRODID:-//Simpson United Methodist Church - ECPv6.15.20//NONSGML v1.0//EN
CALSCALE:GREGORIAN
METHOD:PUBLISH
X-WR-CALNAME:Simpson United Methodist Church
X-ORIGINAL-URL:https://simpsonunitedmethodist.org
X-WR-CALDESC:Events for Simpson United Methodist Church
REFRESH-INTERVAL;VALUE=DURATION:PT1H
X-Robots-Tag:noindex
X-PUBLISHED-TTL:PT1H
BEGIN:VTIMEZONE
TZID:America/Chicago
BEGIN:DAYLIGHT
TZOFFSETFROM:-0600
TZOFFSETTO:-0500
TZNAME:CDT
DTSTART:20240310T080000
END:DAYLIGHT
BEGIN:STANDARD
TZOFFSETFROM:-0500
TZOFFSETTO:-0600
TZNAME:CST
DTSTART:20241103T070000
END:STANDARD
BEGIN:DAYLIGHT
TZOFFSETFROM:-0600
TZOFFSETTO:-0500
TZNAME:CDT
DTSTART:20250309T080000
END:DAYLIGHT
BEGIN:STANDARD
TZOFFSETFROM:-0500
TZOFFSETTO:-0600
TZNAME:CST
DTSTART:20251102T070000
END:STANDARD
BEGIN:DAYLIGHT
TZOFFSETFROM:-0600
TZOFFSETTO:-0500
TZNAME:CDT
DTSTART:20260308T080000
END:DAYLIGHT
BEGIN:STANDARD
TZOFFSETFROM:-0500
TZOFFSETTO:-0600
TZNAME:CST
DTSTART:20261101T070000
END:STANDARD
END:VTIMEZONE
BEGIN:VEVENT
DTSTART;TZID=America/Chicago:20250420T110000
DTEND;TZID=America/Chicago:20250420T123000
DTSTAMP:20260424T053835
CREATED:20250409T151054Z
LAST-MODIFIED:20250409T153119Z
UID:430-1745146800-1745152200@simpsonunitedmethodist.org
SUMMARY:Easter Sunday
DESCRIPTION:Celebrate with us for this is the day that Christ has risen!!! \n 
URL:https://simpsonunitedmethodist.org/event/easter-sunday/
LOCATION:Simpson United Methodist Church\, 1701 E 12th 5\, Austin\, Texas\, 78702\, United States
END:VEVENT
END:VCALENDAR