BEGIN:VCALENDAR
VERSION:2.0
PRODID:-//Simpson United Methodist Church - ECPv6.15.20//NONSGML v1.0//EN
CALSCALE:GREGORIAN
METHOD:PUBLISH
X-WR-CALNAME:Simpson United Methodist Church
X-ORIGINAL-URL:https://simpsonunitedmethodist.org
X-WR-CALDESC:Events for Simpson United Methodist Church
REFRESH-INTERVAL;VALUE=DURATION:PT1H
X-Robots-Tag:noindex
X-PUBLISHED-TTL:PT1H
BEGIN:VTIMEZONE
TZID:America/Chicago
BEGIN:DAYLIGHT
TZOFFSETFROM:-0600
TZOFFSETTO:-0500
TZNAME:CDT
DTSTART:20240310T080000
END:DAYLIGHT
BEGIN:STANDARD
TZOFFSETFROM:-0500
TZOFFSETTO:-0600
TZNAME:CST
DTSTART:20241103T070000
END:STANDARD
BEGIN:DAYLIGHT
TZOFFSETFROM:-0600
TZOFFSETTO:-0500
TZNAME:CDT
DTSTART:20250309T080000
END:DAYLIGHT
BEGIN:STANDARD
TZOFFSETFROM:-0500
TZOFFSETTO:-0600
TZNAME:CST
DTSTART:20251102T070000
END:STANDARD
BEGIN:DAYLIGHT
TZOFFSETFROM:-0600
TZOFFSETTO:-0500
TZNAME:CDT
DTSTART:20260308T080000
END:DAYLIGHT
BEGIN:STANDARD
TZOFFSETFROM:-0500
TZOFFSETTO:-0600
TZNAME:CST
DTSTART:20261101T070000
END:STANDARD
END:VTIMEZONE
BEGIN:VEVENT
DTSTART;TZID=America/Chicago:20250209T110000
DTEND;TZID=America/Chicago:20250209T123000
DTSTAMP:20260424T103050
CREATED:20250126T203033Z
LAST-MODIFIED:20250126T203834Z
UID:373-1739098800-1739104200@simpsonunitedmethodist.org
SUMMARY:Super Sunday!!
DESCRIPTION:. \nCome join us this Sunday wearing your favorite football team attire as we praise God together!
URL:https://simpsonunitedmethodist.org/event/super-sunday/
END:VEVENT
END:VCALENDAR